BEGIN:VCALENDAR
VERSION:2.0
PRODID:-//Radio Redondela 94.9FM - ECPv5.3.2.1//NONSGML v1.0//EN
CALSCALE:GREGORIAN
METHOD:PUBLISH
X-WR-CALNAME:Radio Redondela 94.9FM
X-ORIGINAL-URL:https://www.radioredondela.com
X-WR-CALDESC:Events for Radio Redondela 94.9FM
BEGIN:VTIMEZONE
TZID:Europe/Madrid
BEGIN:DAYLIGHT
TZOFFSETFROM:+0100
TZOFFSETTO:+0200
TZNAME:CEST
DTSTART:20260329T010000
END:DAYLIGHT
BEGIN:STANDARD
TZOFFSETFROM:+0200
TZOFFSETTO:+0100
TZNAME:CET
DTSTART:20261025T010000
END:STANDARD
END:VTIMEZONE
BEGIN:VEVENT
DTSTART;TZID=Europe/Madrid:20260313T080000
DTEND;TZID=Europe/Madrid:20260313T213000
DTSTAMP:20260424T131329
CREATED:20260303T074140Z
LAST-MODIFIED:20260303T074140Z
UID:97784-1773388800-1773437400@www.radioredondela.com
SUMMARY:Zampakilos Solidario
DESCRIPTION:A nova edición do Zampakilos Solidario precisa de máis de 60 persoas voluntarias en Redondela e Arcade \nA Fundación Banco de Alimentos levará a cabo a súa primeira recollida deste 2026 nos supermercados Vegalsa-Eroski os días 13 e 14 de marzo. Mobilizaranse máis de 60 voluntari@s en Redondela (máis de 40) e Arcade (máis de 20) para poder desenvolver esta primeira Operación Quilo do ano co obxectivo de igualar\, polo menos\, os máis de 60.000 quilos de alimentos recadados durante a campaña de 2025.
URL:https://www.radioredondela.com/eventos/zampakilos-solidario/
END:VEVENT
END:VCALENDAR