BEGIN:VCALENDAR
VERSION:2.0
PRODID:-//Radio Redondela 94.9FM - ECPv5.3.2.1//NONSGML v1.0//EN
CALSCALE:GREGORIAN
METHOD:PUBLISH
X-WR-CALNAME:Radio Redondela 94.9FM
X-ORIGINAL-URL:https://www.radioredondela.com
X-WR-CALDESC:Events for Radio Redondela 94.9FM
BEGIN:VTIMEZONE
TZID:Europe/Madrid
BEGIN:DAYLIGHT
TZOFFSETFROM:+0100
TZOFFSETTO:+0200
TZNAME:CEST
DTSTART:20260329T010000
END:DAYLIGHT
BEGIN:STANDARD
TZOFFSETFROM:+0200
TZOFFSETTO:+0100
TZNAME:CET
DTSTART:20261025T010000
END:STANDARD
END:VTIMEZONE
BEGIN:VEVENT
DTSTART;TZID=Europe/Madrid:20260308T193000
DTEND;TZID=Europe/Madrid:20260308T210000
DTSTAMP:20260424T143102
CREATED:20260303T074541Z
LAST-MODIFIED:20260303T074541Z
UID:97789-1772998200-1773003600@www.radioredondela.com
SUMMARY:Monólogo de Arantxa Treus e Jazmín Abuín
DESCRIPTION:O domingo 8 de marzo a cita será no Multiúsos da Xunqueira ás 19:30 horas co monólogo “Meigags”\, protagonizado por Arantxa Treus e Jazmín Abuín
URL:https://www.radioredondela.com/eventos/monologo-de-arantxa-treus-e-jazmin-abuin/
END:VEVENT
END:VCALENDAR