BEGIN:VCALENDAR
VERSION:2.0
PRODID:-//Radio Redondela 94.9FM - ECPv5.3.2.1//NONSGML v1.0//EN
CALSCALE:GREGORIAN
METHOD:PUBLISH
X-WR-CALNAME:Radio Redondela 94.9FM
X-ORIGINAL-URL:https://www.radioredondela.com
X-WR-CALDESC:Events for Radio Redondela 94.9FM
BEGIN:VTIMEZONE
TZID:Europe/Madrid
BEGIN:DAYLIGHT
TZOFFSETFROM:+0100
TZOFFSETTO:+0200
TZNAME:CEST
DTSTART:20260329T010000
END:DAYLIGHT
BEGIN:STANDARD
TZOFFSETFROM:+0200
TZOFFSETTO:+0100
TZNAME:CET
DTSTART:20261025T010000
END:STANDARD
END:VTIMEZONE
BEGIN:VEVENT
DTSTART;TZID=Europe/Madrid:20260320T183000
DTEND;TZID=Europe/Madrid:20260320T200000
DTSTAMP:20260424T143011
CREATED:20260303T074830Z
LAST-MODIFIED:20260303T074830Z
UID:97794-1774031400-1774036800@www.radioredondela.com
SUMMARY:Contacontos polo 8M
DESCRIPTION:A programación do Concello de Redondela inclúe actividades dirixidas ao público infantil co contacontos “Elas tamén contan”\, que levará a Olga Cuervo ata Chapela o venres 20 de marzo ás 18:30 horas.
URL:https://www.radioredondela.com/eventos/contacontos-polo-8m/
END:VEVENT
END:VCALENDAR