BEGIN:VCALENDAR
VERSION:2.0
PRODID:-//Radio Redondela 94.9FM - ECPv5.3.2.1//NONSGML v1.0//EN
CALSCALE:GREGORIAN
METHOD:PUBLISH
X-WR-CALNAME:Radio Redondela 94.9FM
X-ORIGINAL-URL:https://www.radioredondela.com
X-WR-CALDESC:Events for Radio Redondela 94.9FM
BEGIN:VTIMEZONE
TZID:Europe/Madrid
BEGIN:DAYLIGHT
TZOFFSETFROM:+0100
TZOFFSETTO:+0200
TZNAME:CEST
DTSTART:20260329T010000
END:DAYLIGHT
BEGIN:STANDARD
TZOFFSETFROM:+0200
TZOFFSETTO:+0100
TZNAME:CET
DTSTART:20261025T010000
END:STANDARD
END:VTIMEZONE
BEGIN:VEVENT
DTSTART;TZID=Europe/Madrid:20260304T103000
DTEND;TZID=Europe/Madrid:20260304T130000
DTSTAMP:20260424T114759
CREATED:20260303T074329Z
LAST-MODIFIED:20260303T074329Z
UID:97787-1772620200-1772629200@www.radioredondela.com
SUMMARY:Andaina polo Maceiras
DESCRIPTION:Unha andaina polo río Maceiras promove hábitos saudables co gallo do Día Mundial da obesidade \nCo gallo Día Mundial da Obesidade que se celebra o 4 de marzo\, Redondela acollerá a actividade “Camiña e conecta”\, unha andaina de 3 kilómetros pola Senda do río Maceiras que combinará exercicio físico e mensaxes clave sobre alimentación\, benestar emocional\, actividade física e hixiene do sono\, no marco das acción impulsadas pola Rede Galega de Promoción da Saúde (REGAPS). os participantes daranse cita ás 10:30 horas na Praza do Concello\, lugar dende o que partirá a andaina.
URL:https://www.radioredondela.com/eventos/andaina-polo-maceiras/
END:VEVENT
END:VCALENDAR