BEGIN:VCALENDAR
VERSION:2.0
PRODID:-//Radio Redondela 94.9FM - ECPv5.3.2.1//NONSGML v1.0//EN
CALSCALE:GREGORIAN
METHOD:PUBLISH
X-WR-CALNAME:Radio Redondela 94.9FM
X-ORIGINAL-URL:https://www.radioredondela.com
X-WR-CALDESC:Events for Radio Redondela 94.9FM
BEGIN:VTIMEZONE
TZID:Europe/Madrid
BEGIN:DAYLIGHT
TZOFFSETFROM:+0100
TZOFFSETTO:+0200
TZNAME:CEST
DTSTART:20260329T010000
END:DAYLIGHT
BEGIN:STANDARD
TZOFFSETFROM:+0200
TZOFFSETTO:+0100
TZNAME:CET
DTSTART:20261025T010000
END:STANDARD
END:VTIMEZONE
BEGIN:VEVENT
DTSTART;TZID=Europe/Madrid:20260426T113000
DTEND;TZID=Europe/Madrid:20260426T150000
DTSTAMP:20260424T132852
CREATED:20260423T112823Z
LAST-MODIFIED:20260423T112823Z
UID:99540-1777203000-1777215600@www.radioredondela.com
SUMMARY:Andaina pola Levada de Casqueiros en Pazos de Borbén
DESCRIPTION:O concello de Pazos de Borbén acolle este domingo 26 de abril unha nova actividade de sendeirismo dentro da súa aposta pola divulgación do patrimonio natural e etnográfico. Trátase da andaina Levada de Casqueiros\, unha ruta de carácter sinxelo que percorrerá un dos enclaves máis singulares do termo municipal. \nA actividade partirá ás 10:30 horas desde o torreiro da festa da parroquia de Borbén e terá un percorrido aproximado de cinco quilómetros\, cunha duración estimada de dúas horas e media. O itinerario discorre pola fraga do Río do Pozo Negro\, unha contorna de gran valor paisaxístico onde conflúen natureza\, historia e tradición. \nDesde a organización destacan que se trata dunha ruta accesible\, pensada para todo tipo de público\, aínda que recomendan acudir con calzado adecuado debido á posible humidade do terreo. A iniciativa busca non só fomentar a actividade física\, senón tamén pór en valor espazos naturais pouco coñecidos e promover a súa conservación. \nA participación está limitada a 30 persoas\, polo que é necesaria inscrición previa. As persoas interesadas poden formalizala a través do teléfono 692 613 790 ou do correo electrónico trasospasosdamour@gmail.com.
URL:https://www.radioredondela.com/eventos/andaina-pola-levada-de-casqueiros-en-pazos-de-borben/
END:VEVENT
END:VCALENDAR